BEGIN:VCALENDAR
VERSION:2.0
PRODID:-//Liebstein - ECPv6.15.20//NONSGML v1.0//EN
CALSCALE:GREGORIAN
METHOD:PUBLISH
X-ORIGINAL-URL:https://liebstein.space
X-WR-CALDESC:Events for Liebstein
REFRESH-INTERVAL;VALUE=DURATION:PT1H
X-Robots-Tag:noindex
X-PUBLISHED-TTL:PT1H
BEGIN:VTIMEZONE
TZID:Europe/Paris
BEGIN:DAYLIGHT
TZOFFSETFROM:+0100
TZOFFSETTO:+0200
TZNAME:CEST
DTSTART:20250330T010000
END:DAYLIGHT
BEGIN:STANDARD
TZOFFSETFROM:+0200
TZOFFSETTO:+0100
TZNAME:CET
DTSTART:20251026T010000
END:STANDARD
BEGIN:DAYLIGHT
TZOFFSETFROM:+0100
TZOFFSETTO:+0200
TZNAME:CEST
DTSTART:20260329T010000
END:DAYLIGHT
BEGIN:STANDARD
TZOFFSETFROM:+0200
TZOFFSETTO:+0100
TZNAME:CET
DTSTART:20261025T010000
END:STANDARD
BEGIN:DAYLIGHT
TZOFFSETFROM:+0100
TZOFFSETTO:+0200
TZNAME:CEST
DTSTART:20270328T010000
END:DAYLIGHT
BEGIN:STANDARD
TZOFFSETFROM:+0200
TZOFFSETTO:+0100
TZNAME:CET
DTSTART:20271031T010000
END:STANDARD
END:VTIMEZONE
BEGIN:VEVENT
DTSTART;TZID=Europe/Paris:20260507T190000
DTEND;TZID=Europe/Paris:20260507T220000
DTSTAMP:20260425T182342
CREATED:20260304T100413Z
LAST-MODIFIED:20260404T065127Z
UID:2113-1778180400-1778191200@liebstein.space
SUMMARY:Liebstein Tango - Schwalben Praktika
DESCRIPTION:Tanzen\, üben und freuen. Jeden Donnerstag.\nIm Stall mit den Schwalben.
URL:https://liebstein.space/event/liebstein-tango-schwalben-praktika/
LOCATION:Sachsen
CATEGORIES:Practica,Tango
ATTACH;FMTTYPE=image/jpeg:https://liebstein.space/wp-content/uploads/2026/03/Bild-04.03.26-um-10.15.jpg
ORGANIZER;CN="Liebstein Dance Castle-in-the-making Chris & Anke":MAILTO:hello@liebstein.space
END:VEVENT
BEGIN:VEVENT
DTSTART;TZID=Europe/Paris:20260514T190000
DTEND;TZID=Europe/Paris:20260514T220000
DTSTAMP:20260425T182342
CREATED:20260406T171000Z
LAST-MODIFIED:20260406T171000Z
UID:2364-1778785200-1778796000@liebstein.space
SUMMARY:Liebstein Tango - Schwalben Praktika
DESCRIPTION:Tanzen\, üben und freuen. Jeden Donnerstag.\nIm Stall mit den Schwalben.
URL:https://liebstein.space/event/liebstein-tango-schwalben-praktika-4/
LOCATION:Sachsen
CATEGORIES:Practica,Tango
ATTACH;FMTTYPE=image/jpeg:https://liebstein.space/wp-content/uploads/2026/03/Bild-04.03.26-um-10.15.jpg
ORGANIZER;CN="Liebstein Dance Castle-in-the-making Chris & Anke":MAILTO:hello@liebstein.space
END:VEVENT
BEGIN:VEVENT
DTSTART;TZID=Europe/Paris:20260521T190000
DTEND;TZID=Europe/Paris:20260521T220000
DTSTAMP:20260425T182342
CREATED:20260406T184621Z
LAST-MODIFIED:20260406T184621Z
UID:2405-1779390000-1779400800@liebstein.space
SUMMARY:Liebstein Tango - Schwalben Praktika
DESCRIPTION:Tanzen\, üben und freuen. Jeden Donnerstag.\nIm Stall mit den Schwalben.
URL:https://liebstein.space/event/liebstein-tango-schwalben-praktika-3/
LOCATION:Liebstein Dance Castle-in-the-making\, Liebstein 8\, Schöpstal\, Sachsen\, 02829\, Germany
CATEGORIES:Practica,Tango
ATTACH;FMTTYPE=image/jpeg:https://liebstein.space/wp-content/uploads/2026/03/Bild-04.03.26-um-10.15.jpg
ORGANIZER;CN="Liebstein Dance Castle-in-the-making Chris & Anke":MAILTO:hello@liebstein.space
END:VEVENT
END:VCALENDAR