BEGIN:VCALENDAR
VERSION:2.0
PRODID:-//Liebstein - ECPv6.15.20//NONSGML v1.0//EN
CALSCALE:GREGORIAN
METHOD:PUBLISH
X-ORIGINAL-URL:https://liebstein.space
X-WR-CALDESC:Events for Liebstein
REFRESH-INTERVAL;VALUE=DURATION:PT1H
X-Robots-Tag:noindex
X-PUBLISHED-TTL:PT1H
BEGIN:VTIMEZONE
TZID:Europe/Paris
BEGIN:DAYLIGHT
TZOFFSETFROM:+0100
TZOFFSETTO:+0200
TZNAME:CEST
DTSTART:20250330T010000
END:DAYLIGHT
BEGIN:STANDARD
TZOFFSETFROM:+0200
TZOFFSETTO:+0100
TZNAME:CET
DTSTART:20251026T010000
END:STANDARD
BEGIN:DAYLIGHT
TZOFFSETFROM:+0100
TZOFFSETTO:+0200
TZNAME:CEST
DTSTART:20260329T010000
END:DAYLIGHT
BEGIN:STANDARD
TZOFFSETFROM:+0200
TZOFFSETTO:+0100
TZNAME:CET
DTSTART:20261025T010000
END:STANDARD
BEGIN:DAYLIGHT
TZOFFSETFROM:+0100
TZOFFSETTO:+0200
TZNAME:CEST
DTSTART:20270328T010000
END:DAYLIGHT
BEGIN:STANDARD
TZOFFSETFROM:+0200
TZOFFSETTO:+0100
TZNAME:CET
DTSTART:20271031T010000
END:STANDARD
END:VTIMEZONE
BEGIN:VEVENT
DTSTART;TZID=Europe/Paris:20260604T190000
DTEND;TZID=Europe/Paris:20260604T220000
DTSTAMP:20260426T002825
CREATED:20260406T180532Z
LAST-MODIFIED:20260406T180628Z
UID:2366-1780599600-1780610400@liebstein.space
SUMMARY:Liebstein Tango - EL CACHIVACHE Live!
DESCRIPTION:Zum zweiten Mal in Liebstein! \nDie sanften Bad Boys des Tango kommen zurück\, aus Buenos Aires ins Herz der Oberlausitz. \nIm Mai 2025 haben das Liebsteiner Dance Castle mit den ersten Tango Sounds überhaupt eröffnet. Jetzt kommen sie zurück für den heißesten Liebsteiner Buenos Aires Sound auf dem allerfeinsten Parkett im nagelneu renovierten Ballsaal-Stall. \nDarf man nicht verpassen! \n**** \nFor the second time in Liebstein!The gentle bad boys of Tango are back from Buenos Aires into the heart of the Upper Lusatia. \nIn May 2025\, they opened the Liebstein Dance Castle with the very first tango sounds ever heard there. Now they’re back—bringing the hottest Buenos Aires vibes to Liebstein\, on the finest dance floor in the newly renovated ballroom barn. \nNot to be missed!
URL:https://liebstein.space/event/liebstein-tango-el-cachivache-live/
LOCATION:Sachsen
CATEGORIES:Concert,Milonga,Tango
ATTACH;FMTTYPE=image/png:https://liebstein.space/wp-content/uploads/2026/04/Cachivache26-1-Tanghetto-Opening-16-8-Yes.png
ORGANIZER;CN="Liebstein Dance Castle-in-the-making Chris & Anke":MAILTO:hello@liebstein.space
END:VEVENT
END:VCALENDAR